BEGIN:VCALENDAR
PRODID:-//AT Content Types//AT Event//EN
VERSION:1.0
BEGIN:VEVENT
DTSTART:20111128T090000Z
DTEND:20111128T120000Z
DCREATED:20120328T195123Z
UID:ATEvent-3208fe8f01cb3083656060f26c2adcd8
SEQUENCE:0
LAST-MODIFIED:20130412T115852Z
SUMMARY:Gyűjteményi munkakonferencia
DESCRIPTION:Az evangélikus kulturális örökség digitalizálása - 
 2011. november 28.
PRIORITY:3
TRANSP:0
END:VEVENT
END:VCALENDAR
